BEGIN:VCALENDAR
VERSION:2.0
PRODID:-//Sancti Petri Hills Golf - ECPv6.15.20//NONSGML v1.0//EN
CALSCALE:GREGORIAN
METHOD:PUBLISH
X-WR-CALNAME:Sancti Petri Hills Golf
X-ORIGINAL-URL:https://sanctipetrihillsgolf.com/es/
X-WR-CALDESC:Eventos para Sancti Petri Hills Golf
REFRESH-INTERVAL;VALUE=DURATION:PT1H
X-Robots-Tag:noindex
X-PUBLISHED-TTL:PT1H
BEGIN:VTIMEZONE
TZID:UTC
BEGIN:STANDARD
TZOFFSETFROM:+0000
TZOFFSETTO:+0000
TZNAME:UTC
DTSTART:20200101T000000
END:STANDARD
END:VTIMEZONE
BEGIN:VEVENT
DTSTART;TZID=UTC:20240225T080000
DTEND;TZID=UTC:20240225T170000
DTSTAMP:20260420T125748
CREATED:20240208T173031Z
LAST-MODIFIED:20240209T075549Z
UID:18993-1708848000-1708880400@sanctipetrihillsgolf.com
SUMMARY:2ª Prueba | Ranking Social Amigos Sancti Petri Hills Golf Race
DESCRIPTION:Categorías \n1a Categoría INDISTINTA hasta Hcp 17\,4 \n2a Categoría INDISTINTA desde Hcp 17\,5 hasta 36\,4 (Hcp reducido a 26\,4 para los caballeros y a 36 para señoras) \nTorneo exclusivo para jugadores mayores de 18 años. \nLos Jugadores que inicien el Circuito en una Categoría\, se mantendrán en la misma hasta la finalización del Torneo. No obstante\, su hándicap de juego en cada partida será el que figure en la RFEG \nLos jugadores de 2a categoría pueden inscribirse en 1a categoría pero no al contrario y deben informar de ello al inscribirse en la primera prueba. \nReglamento
URL:https://sanctipetrihillsgolf.com/es/event/2a-prueba-ranking-social-amigos-sancti-petri-hills-golf-race/
LOCATION:Sancti Petri Hills Golf\, Urb. Lomas de Sancti Petri\, C/Marco Aurelio s/n\,\, Chiclana de la Frontera\, Cádiz\, 11139\, España
CATEGORIES:Torneos
ATTACH;FMTTYPE=image/webp:https://sanctipetrihillsgolf.com/wp-content/uploads/2022/09/RANKING-SOCIAL-AMIGOS-TORNEO-DE-GOLF-SANCTI-PETRI-HILLS-GOLF.webp
ORGANIZER;CN="Sancti Petri Hills Golf":MAILTO:info@sanctipetrihillsgolf.com
END:VEVENT
BEGIN:VEVENT
DTSTART;TZID=UTC:20230429T090000
DTEND;TZID=UTC:20230429T150000
DTSTAMP:20260420T125748
CREATED:20230419T072324Z
LAST-MODIFIED:20230419T072324Z
UID:19241-1682758800-1682780400@sanctipetrihillsgolf.com
SUMMARY:III Torneo de Rojas
DESCRIPTION:¡Bienvenidos al III Torneo de Rojas en Sancti Petri Hills Golf! Este emocionante evento se llevará a cabo el próximo 29 de Abril. Este torneo está diseñado para parejas Fourball en una categoría única y tiene un premio para las seis primeras parejas clasificadas. \nEl precio de inscripción es de 55€ e incluye el green fee\, almuerzo y una parte de la tarifa va destinada al Circuito de Golf Solidario de Cádiz. ¡Aprovecha esta oportunidad para demostrar tus habilidades en el campo mientras colaboras con una buena causa! \nLa salida se realizará a las 9:00 h al tiro. Además\, habrá una tómbola benéfica donde todo lo recaudado irá de forma íntegra al Circuito de Golf Solidario de Cádiz. \nEs importante mencionar que todos los jugadores deben salir desde las barras rojas y usar una prenda roja. ¡Ayuda a crear un ambiente divertido y vibrante en el campo! \nNo pierdas la oportunidad de ser parte de este emocionante torneo en Sancti Petri Hills Golf. Para inscribirte\, puedes llamar al 856 924 668 o enviar un correo electrónico a info@sanctipetrihillsgolf.com. ¡Te esperamos! \nCategoría \nCategoría única \nPremio \nPremio a las 6 primeras parejas clasificadas. \nModalidad \nParejas Fourball \nPrecio GE \n55€ (Incluve GE v almuerzo). \n“Parte del GE va destinado al Circuito de Golf Solidario de Cádi \nSalida \n9:00 h al tiro \nTombola benéfica \nInscripción \ninfo@sanctipetrihillsgolf.com \nTodo lo recaudado en la tombola irá de forma integra al Circuito de Golf Solidario de Cádiz \nTodos los jugadores salen de barras rojas y deben traer una prenda roja
URL:https://sanctipetrihillsgolf.com/es/event/iii-torneo-de-rojas/
LOCATION:Sancti Petri Hills Golf\, Urb. Lomas de Sancti Petri\, C/Marco Aurelio s/n\,\, Chiclana de la Frontera\, Cádiz\, 11139\, España
CATEGORIES:Torneos
ATTACH;FMTTYPE=image/jpeg:https://sanctipetrihillsgolf.com/wp-content/uploads/2023/04/III-Torneo-Rojas.jpg
ORGANIZER;CN="Sancti Petri Hills Golf":MAILTO:info@sanctipetrihillsgolf.com
END:VEVENT
BEGIN:VEVENT
DTSTART;TZID=UTC:20230429T090000
DTEND;TZID=UTC:20230429T150000
DTSTAMP:20260420T125748
CREATED:20230419T071944Z
LAST-MODIFIED:20230419T071944Z
UID:19235-1682758800-1682780400@sanctipetrihillsgolf.com
SUMMARY:III Torneo Rojas
DESCRIPTION:el proximo 29 de Abril celebraremos nuestro III Torneo de Rojas\, para hacer la inscripcion pueden llamar ☎️ al 856 924 668 o enviar un ✉️ mail al info@sanctipetrihillsgolf.com\,
URL:https://sanctipetrihillsgolf.com/es/event/iii-torneo-rojas/
LOCATION:Sancti Petri Hills Golf\, Urb. Lomas de Sancti Petri\, C/Marco Aurelio s/n\,\, Chiclana de la Frontera\, Cádiz\, 11139\, España
ATTACH;FMTTYPE=image/jpeg:https://sanctipetrihillsgolf.com/wp-content/uploads/2023/04/III-Torneo-Rojas.jpg
ORGANIZER;CN="Sancti Petri Hills Golf":MAILTO:info@sanctipetrihillsgolf.com
END:VEVENT
BEGIN:VEVENT
DTSTART;TZID=UTC:20210814T090000
DTEND;TZID=UTC:20210814T170000
DTSTAMP:20260420T125748
CREATED:20210728T075539Z
LAST-MODIFIED:20210730T110214Z
UID:18513-1628931600-1628960400@sanctipetrihillsgolf.com
SUMMARY:III Torneo Roche Residencial
DESCRIPTION:Fecha \n14 de agosto 2021 \nSalida \nSalida al tiro a las 09:00 horas \nCategorías \n2 categorias indistintas (50% inscritos) \nPremios \nentrega de premios y magnifico sorteo de regalos. *especificar que tanto la entrega de premios como el sorteo serán después del almuerzo. \nPrecios \nSocio 15€ \nPropietario roche 30€ \nExternos 40€ \n* precio del almuerzo: 20€ pago directo restaurante. \ninscripciones en el club: \nhttps://sanctipetrihills.golfmanager.com/consumer/activities
URL:https://sanctipetrihillsgolf.com/es/event/iii-torneo-roche-residencial/
LOCATION:Sancti Petri Hills Golf\, Urb. Lomas de Sancti Petri\, C/Marco Aurelio s/n\,\, Chiclana de la Frontera\, Cádiz\, 11139\, España
CATEGORIES:Torneos
ATTACH;FMTTYPE=image/jpeg:https://sanctipetrihillsgolf.com/wp-content/uploads/2021/07/Torneo-de-golf-Roche-Residencial-Sancti-Petri-Hills-Golf.jpg
ORGANIZER;CN="Sancti Petri Hills Golf":MAILTO:info@sanctipetrihillsgolf.com
END:VEVENT
BEGIN:VEVENT
DTSTART;TZID=UTC:20210812T090000
DTEND;TZID=UTC:20210812T170000
DTSTAMP:20260420T125748
CREATED:20210728T075156Z
LAST-MODIFIED:20210730T110232Z
UID:18507-1628758800-1628787600@sanctipetrihillsgolf.com
SUMMARY:Torneo del Aceite y del Jamón | Seoane-Pampin
DESCRIPTION:Fecha \n14 de agosto 2021 \nModalidad \nFOURBALL PAREJAS \nSalida  \nAl tiro a las 09:00 horas \nPrecios \nPrecio abonado: 15€ \nPrecio no abonado: 30€ \nPrecio del almuerzo 20€\, pago directo en el restaurante. Previa Reserva \nPremios \n1ª pareja Clasificada: jamon ibérico y 2 botellas de Aceite de la carrera 50 aniversario \n2ª pareja Clasificada: jamon ibérico y 2 botellas de Aceite de la carrera 50 aniversario \n3ª pareja Clasificada: paletilla ibérica y 2 botellas de Aceite de la carrera 50 aniversario \n4ª pareja clasificada: paletilla ibérica y 2 botellas de Aceite de la carrera 50 aniversario \n5ª pareja clasificada: paletilla ibérica y 2 botellas de Aceite de la carrera 50 aniversario \nPremios especiales \nPremio sorpresa para la mejor pareja scratch \nLata de Aceite los cerros de Úbeda para todos los inscritos \nInscripción \nhttps://sanctipetrihills.golfmanager.com/consumer/activities
URL:https://sanctipetrihillsgolf.com/es/event/torneo-del-aceite-y-del-jamon-seoane-pampin/
LOCATION:Sancti Petri Hills Golf\, Urb. Lomas de Sancti Petri\, C/Marco Aurelio s/n\,\, Chiclana de la Frontera\, Cádiz\, 11139\, España
CATEGORIES:Torneos
ATTACH;FMTTYPE=image/jpeg:https://sanctipetrihillsgolf.com/wp-content/uploads/2021/07/Torneo-del-Aceite-y-del-Jamon-Sancti-Petri-Hills-Golf.jpg
ORGANIZER;CN="Sancti Petri Hills Golf":MAILTO:info@sanctipetrihillsgolf.com
END:VEVENT
BEGIN:VEVENT
DTSTART;TZID=UTC:20210807T090000
DTEND;TZID=UTC:20210807T170000
DTSTAMP:20260420T125748
CREATED:20210728T072852Z
LAST-MODIFIED:20210730T110356Z
UID:18504-1628326800-1628355600@sanctipetrihillsgolf.com
SUMMARY:Torneo Unión de Viticultores Chiclaneros
DESCRIPTION:Torneo Unión Viticultores Chiclaneros Bodega Cooperativa Andaluza \nModalidad \nStableford individual \nSalida \n9:00h al tiro \nCategorías \n2 categorías masculina\nCategoría femenina \nTarifas \nAbonados: 15 € No abonado: 30 € \nAlmuerzo \nPrecio del almuerzo\n20€ pago directo en restaurante \nPremios\nEntrega de premios a los 2 primeros clasificados y sorteo de regalos \n Inscripción \nhttps://sanctipetrihills.golfmanager.com/consumer/activities
URL:https://sanctipetrihillsgolf.com/es/event/torneo-union-de-viticultores-chiclaneros/
LOCATION:Sancti Petri Hills Golf\, Urb. Lomas de Sancti Petri\, C/Marco Aurelio s/n\,\, Chiclana de la Frontera\, Cádiz\, 11139\, España
CATEGORIES:Torneos
ATTACH;FMTTYPE=image/jpeg:https://sanctipetrihillsgolf.com/wp-content/uploads/2021/07/Torneo-Bodega-Cooperativa-Andaluza-.jpg
ORGANIZER;CN="Sancti Petri Hills Golf":MAILTO:info@sanctipetrihillsgolf.com
END:VEVENT
BEGIN:VEVENT
DTSTART;TZID=UTC:20210717T090000
DTEND;TZID=UTC:20210717T150000
DTSTAMP:20260420T125748
CREATED:20210708T202413Z
LAST-MODIFIED:20210708T202527Z
UID:18474-1626512400-1626534000@sanctipetrihillsgolf.com
SUMMARY:Heritage World Cup - Sancti Petri Hills Golf
DESCRIPTION:
URL:https://sanctipetrihillsgolf.com/es/event/heritage-world-cup-sancti-petri-hills-golf/
LOCATION:Sancti Petri Hills Golf\, Urb. Lomas de Sancti Petri\, C/Marco Aurelio s/n\,\, Chiclana de la Frontera\, Cádiz\, 11139\, España
CATEGORIES:Torneos
ATTACH;FMTTYPE=image/jpeg:https://sanctipetrihillsgolf.com/wp-content/uploads/2021/07/Heritage-World-Cup-Sancti-Petri-Hills-Golf.jpg
ORGANIZER;CN="Sancti Petri Hills Golf":MAILTO:info@sanctipetrihillsgolf.com
END:VEVENT
BEGIN:VEVENT
DTSTART;TZID=UTC:20210711T093000
DTEND;TZID=UTC:20210711T140000
DTSTAMP:20260420T125748
CREATED:20210708T203009Z
LAST-MODIFIED:20210730T110304Z
UID:18478-1625995800-1626012000@sanctipetrihillsgolf.com
SUMMARY:5ª Prueba | Ranking Social Amigos Sancti Petri Hills Golf Race to 2022
DESCRIPTION:Categorías \n1a Categoría INDISTINTA hasta Hcp 17\,4 \n2a Categoría INDISTINTA desde Hcp 17\,5 hasta 36\,4 (Hcp reducido a 26\,4 para los caballeros y a 36 para señoras) \nTorneo exclusivo para jugadores mayores de 18 años. \nLos Jugadores que inicien el Circuito en una Categoría\, se mantendrán en la misma hasta la finalización del Torneo. No obstante\, su hándicap de juego en cada partida será el que figure en la RFEG \nLos jugadores de 2a categoría pueden inscribirse en 1a categoría pero no al contrario y deben informar de ello al inscribirse en la primera prueba. \nReglamento
URL:https://sanctipetrihillsgolf.com/es/event/5a-prueba-ranking-social-amigos-sancti-petri-hills-golf-race-to-2022/
LOCATION:Sancti Petri Hills Golf\, Urb. Lomas de Sancti Petri\, C/Marco Aurelio s/n\,\, Chiclana de la Frontera\, Cádiz\, 11139\, España
CATEGORIES:Torneos
ATTACH;FMTTYPE=image/jpeg:https://sanctipetrihillsgolf.com/wp-content/uploads/2021/07/5a-Prueba-Ranking-Social-Amigos-Sancti-Petri-Hills-Golf-Race-to-2022-.jpg
ORGANIZER;CN="Sancti Petri Hills Golf":MAILTO:info@sanctipetrihillsgolf.com
END:VEVENT
END:VCALENDAR